BEGIN:VCALENDAR
VERSION:2.0
PRODID:-//Fennimore Wisconsin - ECPv6.15.11//NONSGML v1.0//EN
CALSCALE:GREGORIAN
METHOD:PUBLISH
X-ORIGINAL-URL:https://fennimore.com
X-WR-CALDESC:Events for Fennimore Wisconsin
REFRESH-INTERVAL;VALUE=DURATION:PT1H
X-Robots-Tag:noindex
X-PUBLISHED-TTL:PT1H
BEGIN:VTIMEZONE
TZID:America/Chicago
BEGIN:DAYLIGHT
TZOFFSETFROM:-0600
TZOFFSETTO:-0500
TZNAME:CDT
DTSTART:20210314T080000
END:DAYLIGHT
BEGIN:STANDARD
TZOFFSETFROM:-0500
TZOFFSETTO:-0600
TZNAME:CST
DTSTART:20211107T070000
END:STANDARD
BEGIN:DAYLIGHT
TZOFFSETFROM:-0600
TZOFFSETTO:-0500
TZNAME:CDT
DTSTART:20220313T080000
END:DAYLIGHT
BEGIN:STANDARD
TZOFFSETFROM:-0500
TZOFFSETTO:-0600
TZNAME:CST
DTSTART:20221106T070000
END:STANDARD
BEGIN:DAYLIGHT
TZOFFSETFROM:-0600
TZOFFSETTO:-0500
TZNAME:CDT
DTSTART:20230312T080000
END:DAYLIGHT
BEGIN:STANDARD
TZOFFSETFROM:-0500
TZOFFSETTO:-0600
TZNAME:CST
DTSTART:20231105T070000
END:STANDARD
BEGIN:DAYLIGHT
TZOFFSETFROM:-0600
TZOFFSETTO:-0500
TZNAME:CDT
DTSTART:20240310T080000
END:DAYLIGHT
BEGIN:STANDARD
TZOFFSETFROM:-0500
TZOFFSETTO:-0600
TZNAME:CST
DTSTART:20241103T070000
END:STANDARD
BEGIN:DAYLIGHT
TZOFFSETFROM:-0600
TZOFFSETTO:-0500
TZNAME:CDT
DTSTART:20250309T080000
END:DAYLIGHT
BEGIN:STANDARD
TZOFFSETFROM:-0500
TZOFFSETTO:-0600
TZNAME:CST
DTSTART:20251102T070000
END:STANDARD
BEGIN:DAYLIGHT
TZOFFSETFROM:-0600
TZOFFSETTO:-0500
TZNAME:CDT
DTSTART:20260308T080000
END:DAYLIGHT
BEGIN:STANDARD
TZOFFSETFROM:-0500
TZOFFSETTO:-0600
TZNAME:CST
DTSTART:20261101T070000
END:STANDARD
END:VTIMEZONE
BEGIN:VEVENT
DTSTART;TZID=America/Chicago:20221210T090000
DTEND;TZID=America/Chicago:20221210T110000
DTSTAMP:20260422T042952
CREATED:20221201T211706Z
LAST-MODIFIED:20221201T211707Z
UID:16567-1670662800-1670670000@fennimore.com
SUMMARY:Open House at Serendipity Salon & Day Spa
DESCRIPTION:Join the team at Serendipity Salon & Day Spa for their Open House on Saturday\, December 10th from 9:00 am – 11:00 am. Enjoy 20% off EVERYTHING (gift cards too!)\, chair massages\, hand treatments\, and sample Epicure products from Fennimore community member Joy Kite.
URL:https://fennimore.com/event/open-house-at-serendipity-salon-day-spa/
LOCATION:Wisconsin
CATEGORIES:Community Event
END:VEVENT
BEGIN:VEVENT
DTSTART;TZID=America/Chicago:20221211T090000
DTEND;TZID=America/Chicago:20221211T140000
DTSTAMP:20260422T042952
CREATED:20221201T212007Z
LAST-MODIFIED:20221201T212009Z
UID:16569-1670749200-1670767200@fennimore.com
SUMMARY:Customer Appreciation Day at The Pit Crew
DESCRIPTION:The Pit Crew is hosting a Customer Appreciation Day on Sunday\, December 11 from 9:00 am to 2:00 pm. Come join them for some fun! Enjoy drink specials\, raffles\, best soup contest\, games\, and ALL THE FUN!They can’t wait to see you! Tell a friend and see you then!
URL:https://fennimore.com/event/customer-appreciation-day-at-the-pit-crew/
LOCATION:The Pit Crew\, 1220 Lincoln Avenue\, Unit 3\, Fennimore\, Wisconsin\, 53809
CATEGORIES:Community Event
END:VEVENT
BEGIN:VEVENT
DTSTART;TZID=America/Chicago:20221212T101500
DTEND;TZID=America/Chicago:20221212T220000
DTSTAMP:20260422T042952
CREATED:20221201T222938Z
LAST-MODIFIED:20221201T222939Z
UID:16591-1670840100-1670882400@fennimore.com
SUMMARY:Sew Day at The Quilt Peddler
DESCRIPTION:Get away from cooking\, kids or whatever holds you back from sewing Quilts of Valor. The lower room is open until 10:00 pm\, so stay as long as you want to.
URL:https://fennimore.com/event/sew-day-at-the-quilt-peddler/
LOCATION:The Quilt Peddler\, 4420 US Highway 18\, Fennimore\, Wisconsin\, 53809
CATEGORIES:Community Event
END:VEVENT
BEGIN:VEVENT
DTSTART;TZID=America/Chicago:20221217T100000
DTEND;TZID=America/Chicago:20221217T120000
DTSTAMP:20260422T042952
CREATED:20221201T223411Z
LAST-MODIFIED:20221201T223413Z
UID:16595-1671271200-1671278400@fennimore.com
SUMMARY:Santa at the Fire Station
DESCRIPTION:Santa will be making his annual stop in Fennimore to hand out some treats and finalize gift requests. Barb Romberg Photography will also be available to take photos.
URL:https://fennimore.com/event/santa-at-the-fire-station/
LOCATION:Fennimore Fire Department\, 1070 8th Street\, Fennimore\, Wisconsin\, 53809\, United States
CATEGORIES:Community Event
END:VEVENT
BEGIN:VEVENT
DTSTART;TZID=America/Chicago:20230318T110000
DTEND;TZID=America/Chicago:20230318T170000
DTSTAMP:20260422T042952
CREATED:20230120T214918Z
LAST-MODIFIED:20230303T205929Z
UID:16785-1679137200-1679158800@fennimore.com
SUMMARY:Outdoor Sports Expo-CANCELED
DESCRIPTION:The Fennimore Area Chamber of Commerce is sad to share that the Outdoor Sports Expo on Saturday\, March 18 at Southwest Tech is canceled. There is a ton of interest\, so we look forward to having an event like this in the future; unfortunately\, it will not happen in 2023. \n\n\n\nThank you to these sponsors!\n\n\n\nPlatinum Sponsors\n\n\n\n\n\n\n\n\n\n\n\n\n\n\n\nGold Sponsors
URL:https://fennimore.com/event/outdoorsportsexpo/
LOCATION:Southwest Wisconsin Technical College\, 1800 Bronson Boulevard\, Fennimore\, 53809
CATEGORIES:Community Event
ATTACH;FMTTYPE=image/jpeg:https://fennimore.com/wp-content/uploads/2023/01/Outdoor-Sports-Expo-Header-8.5x3.jpg
END:VEVENT
BEGIN:VEVENT
DTSTART;TZID=America/Chicago:20230408T130000
DTEND;TZID=America/Chicago:20230408T170000
DTSTAMP:20260422T042952
CREATED:20230117T174228Z
LAST-MODIFIED:20230314T170701Z
UID:16716-1680958800-1680973200@fennimore.com
SUMMARY:10th Annual Taste of Fennimore
DESCRIPTION:The Fennimore Area Chamber of Commerce invites you to the 10th Annual Taste of Fennimore!  \n\n\n\nEnjoy regional beer\, wine\, coffee\, and beverage tasting\, sample local favorites including meats\, cheeses\, pastas\, sandwiches\, and desserts from a variety of vendors\, live music\, and more!  \n\n\n\nTickets to this great event are available in advance for $15 or at the door for $20. \n\n\n\nLocal eateries\, breweries\, wineries\, cafes\, and baristas have the opportunity to compete in three different categories: \n\n\n\n\n“People’s Choice” Competition: Eatery (Chamber member only)\n\n\n\n“Regional Favorites” Competition: Beverage\n\n\n\n“Regional Favorites” Competition: Food\n\n\n\n\n\nBecome a sponsor\n\n\n\nBecome a vendor\n\n\n\nPurchase tickets
URL:https://fennimore.com/event/taste-2/
LOCATION:The Cottonwood Supper Club & Sports Bar\, 4716 Green River Road \, Fennimore \, WI\, 53809 \, United States
CATEGORIES:Community Event
ATTACH;FMTTYPE=image/jpeg:https://fennimore.com/wp-content/uploads/2023/01/Taste-facebook-event-graphic.jpg
END:VEVENT
BEGIN:VEVENT
DTSTART;TZID=America/Chicago:20230518T160000
DTEND;TZID=America/Chicago:20230518T190000
DTSTAMP:20260422T042952
CREATED:20230216T182813Z
LAST-MODIFIED:20230217T220620Z
UID:16954-1684425600-1684436400@fennimore.com
SUMMARY:Citywide Garage Sale
DESCRIPTION:Citywide Garage Sale\n\n\n\nYou won’t want to miss the Fennimore Area Chamber of Commerce’s  Annual Citywide Garage Sales  \n\n\n\nCitywide Garage Sale Times \n\n\n\nThursday\, May 18 from 4:00 – 7:00 pmFriday\, May 19 from 7:00 am – 5:00 pmSaturday\, May 20 from 7:00 am – 12:00 pm  \n\n\n\nHost a Sale!\n\n\n\nCommunity members – have your garage sale included in all of our marketing for only $10!!Chamber businesses – have your sale or promotion included in our marketing materials for no chargebecause we appreciate you!! \n\n\n\n			\n				\n					Register your Sale
URL:https://fennimore.com/event/citywide-garage-sale/
LOCATION:Wisconsin
CATEGORIES:Community Event
ATTACH;FMTTYPE=image/jpeg:https://fennimore.com/wp-content/uploads/2023/02/Citywide-garage-sales-and-makers-market-facebook-event-graphic-2023-scaled.jpg
END:VEVENT
BEGIN:VEVENT
DTSTART;VALUE=DATE:20250515
DTEND;VALUE=DATE:20250518
DTSTAMP:20260422T042952
CREATED:20250418T220553Z
LAST-MODIFIED:20250513T170317Z
UID:18795-1747267200-1747526399@fennimore.com
SUMMARY:Chamber of Commerce Citywide Garage Sales
DESCRIPTION:Fennimore Area Chamber of Commerce Citywide Garage Sales \n\nDownload a PDF version. \n 
URL:https://fennimore.com/event/chamber-of-commerce-citywide-garage-sales/
LOCATION:Wisconsin
CATEGORIES:Community Event
END:VEVENT
BEGIN:VEVENT
DTSTART;TZID=America/Chicago:20250925T070000
DTEND;TZID=America/Chicago:20250927T190000
DTSTAMP:20260422T042952
CREATED:20250911T194010Z
LAST-MODIFIED:20250922T173849Z
UID:18996-1758783600-1758999600@fennimore.com
SUMMARY:Fennimore Citywide Garage Sale - Fall 2025
DESCRIPTION:Signup deadline extended to Wednesday\, September 24th at noon\n \nSignup deadline extended to Wednesday\, September 24th at noon\nSponsored by Fennimore Area Chamber of Commerce
URL:https://fennimore.com/event/fennimore-citywide-fall-garage-sale/
LOCATION:Fennimore\, Fennimore\, WI\, 53809\, United States
CATEGORIES:Announcements,Community Event
ORGANIZER;CN="Fennimore Area Chamber of Commerce":MAILTO:promo@fennimore.com 
END:VEVENT
BEGIN:VEVENT
DTSTART;TZID=America/Chicago:20251129T090000
DTEND;TZID=America/Chicago:20251129T140000
DTSTAMP:20260422T042952
CREATED:20250911T193357Z
LAST-MODIFIED:20250911T193443Z
UID:18993-1764406800-1764424800@fennimore.com
SUMMARY:50th Annual Christmas Craft Fair
DESCRIPTION:
URL:https://fennimore.com/event/50th-annual-christmas-craft-fair/
LOCATION:Fennimore Memorial Building\, 860 Lincoln Avenue\, Fennimore\, WI\, 53809\, United States
CATEGORIES:Announcements,Community Event
ORGANIZER;CN="Fennimore Area Chamber of Commerce":MAILTO:promo@fennimore.com 
END:VEVENT
END:VCALENDAR