BEGIN:VCALENDAR
VERSION:2.0
PRODID:-//Fennimore Wisconsin - ECPv6.15.11//NONSGML v1.0//EN
CALSCALE:GREGORIAN
METHOD:PUBLISH
X-ORIGINAL-URL:https://fennimore.com
X-WR-CALDESC:Events for Fennimore Wisconsin
REFRESH-INTERVAL;VALUE=DURATION:PT1H
X-Robots-Tag:noindex
X-PUBLISHED-TTL:PT1H
BEGIN:VTIMEZONE
TZID:America/Chicago
BEGIN:DAYLIGHT
TZOFFSETFROM:-0600
TZOFFSETTO:-0500
TZNAME:CDT
DTSTART:20230312T080000
END:DAYLIGHT
BEGIN:STANDARD
TZOFFSETFROM:-0500
TZOFFSETTO:-0600
TZNAME:CST
DTSTART:20231105T070000
END:STANDARD
BEGIN:DAYLIGHT
TZOFFSETFROM:-0600
TZOFFSETTO:-0500
TZNAME:CDT
DTSTART:20240310T080000
END:DAYLIGHT
BEGIN:STANDARD
TZOFFSETFROM:-0500
TZOFFSETTO:-0600
TZNAME:CST
DTSTART:20241103T070000
END:STANDARD
BEGIN:DAYLIGHT
TZOFFSETFROM:-0600
TZOFFSETTO:-0500
TZNAME:CDT
DTSTART:20250309T080000
END:DAYLIGHT
BEGIN:STANDARD
TZOFFSETFROM:-0500
TZOFFSETTO:-0600
TZNAME:CST
DTSTART:20251102T070000
END:STANDARD
BEGIN:DAYLIGHT
TZOFFSETFROM:-0600
TZOFFSETTO:-0500
TZNAME:CDT
DTSTART:20260308T080000
END:DAYLIGHT
BEGIN:STANDARD
TZOFFSETFROM:-0500
TZOFFSETTO:-0600
TZNAME:CST
DTSTART:20261101T070000
END:STANDARD
BEGIN:DAYLIGHT
TZOFFSETFROM:-0600
TZOFFSETTO:-0500
TZNAME:CDT
DTSTART:20270314T080000
END:DAYLIGHT
BEGIN:STANDARD
TZOFFSETFROM:-0500
TZOFFSETTO:-0600
TZNAME:CST
DTSTART:20271107T070000
END:STANDARD
END:VTIMEZONE
BEGIN:VEVENT
DTSTART;TZID=America/Chicago:20240726T110000
DTEND;TZID=America/Chicago:20240726T193000
DTSTAMP:20260419T130330
CREATED:20240722T204120Z
LAST-MODIFIED:20240722T204410Z
UID:18123-1721991600-1722022200@fennimore.com
SUMMARY:Back 2 School BASH
DESCRIPTION:DONATE HERE:  \n— \nSCHEDULE OF EVENTS:11:00a – 1:30 pm (on 8th Street\, by the Memorial Building)Inflatable obstacle course from Y’allbee InflatablesDunk TankFace Painting by SummerLove Art & BeyondFree Haircuts from Creative Rootz Salon and SpaGames hosted by the FHS athletic teams/clubs – meet the teams and coaches!Chalk artVespermans Ice Cream Truck – 1st 100 scoops will be free thanks to People’s State Bank!End Loader Tours provided by Fennimore StreetsAmbulance Tours provided by Fennimore Rescue SquadGundersen Boscobel Area Hospital & Clinics Worry Monster boothLemonade Stand by TDS Telecommunications!Grant Regional Health Center BoothCommunity First Bank BoothFood Stand by Evolve Dance CompanyFriends of Fennimore Apparel Stand \n1:30 pmEvolve Dance Company performance in the Memorial Building Gym\n2:00 pmMagician in the Memorial Building Gym sponsored by Dwight T. Parker Library\n5:00 – 7:30 pmJoin us for a FREE pool party at the Fennimore Community Pool sponsored by The City of Fennimore!\n 
URL:https://fennimore.com/event/back-2-school-bash-2/
ORGANIZER;CN="Fennimore Area Chamber of Commerce":MAILTO:promo@fennimore.com
END:VEVENT
BEGIN:VEVENT
DTSTART;TZID=America/Chicago:20240819T173000
DTEND;TZID=America/Chicago:20240819T183000
DTSTAMP:20260419T130330
CREATED:20231121T193553Z
LAST-MODIFIED:20231121T193553Z
UID:17661-1724088600-1724092200@fennimore.com
SUMMARY:Council Meeting
DESCRIPTION:
URL:https://fennimore.com/event/council-meeting-25/
CATEGORIES:City Council Meeting
END:VEVENT
BEGIN:VEVENT
DTSTART;TZID=America/Chicago:20240926T160000
DTEND;TZID=America/Chicago:20240928T120000
DTSTAMP:20260419T130330
CREATED:20240807T215324Z
LAST-MODIFIED:20240924T162116Z
UID:18162-1727366400-1727524800@fennimore.com
SUMMARY:Fall Citywide Garage Sales
DESCRIPTION:Fall Citywide Garage Sales will be happening September 26-28th. \n\n\n\nThe cost is $10 and you’ll receive a number stake and be included on the garage sale map! Garage sales will run Thursday evening from 4:00 pm – 7:00 pm\, Friday from 7:00 am – 5:00 pm\, and Saturday from 7:00 am – 12:00 pm. \n   \nVisit the Garage Sale Map Here: \nhttps://www.google.com/maps/d/u/0/edit?mid=1ntBYZ507Y9j9LTWjCeS2a40xE3IQmgg&usp=sharing \n 
URL:https://fennimore.com/event/18162/
ORGANIZER;CN="Fennimnore Area Chamber of Commerce":MAILTO:promo@fennimore.com 
END:VEVENT
BEGIN:VEVENT
DTSTART;VALUE=DATE:20240929
DTEND;VALUE=DATE:20240930
DTSTAMP:20260419T130330
CREATED:20240912T223653Z
LAST-MODIFIED:20240912T223653Z
UID:18212-1727568000-1727654399@fennimore.com
SUMMARY:Heritage Day
DESCRIPTION:Free self-guided tour of the museum\, bean bags\, crazy animal stick course\, face painting\, kiddie peddle tractor pull. there will be a food stand on the grounds and a bucket raffle!! \nAlso in town\, the same day is the FFA breakfast\, FFA toy show\, Railroad grounds will have tractors\, cars\, hit and miss\, and the pumpkin grower display/weigh-in. There will also be free wagon rides around to different stopping points. LOTS of FUN\, can’t wait to see you friends!
URL:https://fennimore.com/event/heritage-day-2/
ORGANIZER;CN="Fennimore Railroad Historical Society":MAILTO:promo@fennimore.com
END:VEVENT
BEGIN:VEVENT
DTSTART;TZID=America/Chicago:20241027T140000
DTEND;TZID=America/Chicago:20241027T160000
DTSTAMP:20260419T130330
CREATED:20240816T161018Z
LAST-MODIFIED:20240816T161053Z
UID:18179-1730037600-1730044800@fennimore.com
SUMMARY:Fennimore Community Trunk or Treat!
DESCRIPTION:🎃 Spooky Trunk or Treat Extravaganza! 👻 \nJoin us for a hauntingly good time at our Trunk or Treat event\, where the only thing scarier than the costumes is how much fun you’ll have! \nBring your little ghouls\, goblins\, and ghosts to a frightfully safe and spook-tacular evening of trick-or-treating from creatively decorated car trunks. Our event is designed to provide a fun and safe environment where kids can enjoy Halloween festivities to the fullest. There will be plenty of candy cauldrons\, spooky surprises\, and monster mash music to keep the spirit of the night alive. 🎃🍬💀 \nJoin us if you dare\, and let’s make this Halloween a night to remember! 🎃 \nDate: Sunday\, October 27th\nTime: 2:00 – 4:00 pm\nLocation: Fennimore High School – in the parking lot \nPrepare for a night filled with chills\, thrills\, and candy spills! We can’t wait to see everyone for our 2nd Trunk or Treat event 👻🍬🎃🍭💀 This event is FREE and OPEN to the public\, but don’t forget to come in your best Halloween costumes! \nTrunkers can register below — we’ll have a friendly competition for the best trunk! Both candy and non-candy items are to be collected by all our treaters so come prepared\, last year we saw over 250 kiddos! 🍬🪀 \nPlease call 608-822-3599 or email promo@fennimore.com for more info!
URL:https://fennimore.com/event/fennimore-community-trunk-or-treat/
END:VEVENT
BEGIN:VEVENT
DTSTART;TZID=America/Chicago:20241031T080000
DTEND;TZID=America/Chicago:20241031T170000
DTSTAMP:20260419T130330
CREATED:20241031T203600Z
LAST-MODIFIED:20241031T203647Z
UID:18268-1730361600-1730394000@fennimore.com
SUMMARY:Holiday Parade
DESCRIPTION:Participate in our Holiday Parade! \nThe parade will start at 5:30 p.m.\, with the lineup beginning at 5:00 p.m.  \nWhether you are planning to decorate a float or walk in the parade\, please register below!  \n \n 
URL:https://fennimore.com/event/holiday-parade-2024/
END:VEVENT
BEGIN:VEVENT
DTSTART;TZID=America/Chicago:20241106T170000
DTEND;TZID=America/Chicago:20241106T193000
DTSTAMP:20260419T130330
CREATED:20241015T174820Z
LAST-MODIFIED:20241015T180256Z
UID:18259-1730912400-1730921400@fennimore.com
SUMMARY:Fennimore Area Chamber of Commerce Annual Meeting
DESCRIPTION:RSVP HERE:  \n 
URL:https://fennimore.com/event/facc-annualmeeting2024/
LOCATION:Hilltop Mexican Restaurant\, 760 Lincoln Avenue\, Fennimore\, Wisconsin\, 53809\, United States
CATEGORIES:Chamber of Commerce Meeting
ORGANIZER;CN="Fennimore Area Chamber of Commerce":MAILTO:promo@fennimore.com
END:VEVENT
BEGIN:VEVENT
DTSTART;TZID=America/Chicago:20241130T080000
DTEND;TZID=America/Chicago:20250101T170000
DTSTAMP:20260419T130330
CREATED:20241031T203423Z
LAST-MODIFIED:20241031T203436Z
UID:18266-1732953600-1735750800@fennimore.com
SUMMARY:Lights at the Library
DESCRIPTION:Lights at the Library \nLights at the Library are back! Community members enjoyed seeing our library and downtown lit up with joy\, so we’ve decided to keep it along Lincoln Ave for another year!  \n  \nREGISTER TO SPONSOR A TREE HERE:
URL:https://fennimore.com/event/lights-at-the-library-2024/
LOCATION:Dwight Parker Library
ORGANIZER;CN="Fennimnore Area Chamber of Commerce":MAILTO:promo@fennimore.com 
END:VEVENT
BEGIN:VEVENT
DTSTART;TZID=America/Chicago:20241130T090000
DTEND;TZID=America/Chicago:20241130T140000
DTSTAMP:20260419T130330
CREATED:20240905T183550Z
LAST-MODIFIED:20240905T183550Z
UID:18208-1732957200-1732975200@fennimore.com
SUMMARY:Christmas Creations Craft Fair & Maker’s Market
DESCRIPTION:Our annual Christmas Creations Craft Show & Maker’s Market is one you won’t want to miss! Crafters\, artists\, makers\, vendors\, and more will be located in the Fennimore Elementary School gymnasium and the Fennimore Memorial Building.\nPlan to spend the day with us for our magical Holiday Fen-stival\, including the Holiday Parade and lighting of the Lights at the Library.\nREGISTER FOR A BOOTH HERE:
URL:https://fennimore.com/event/christmascreations/
ORGANIZER;CN="Fennimnore Area Chamber of Commerce":MAILTO:promo@fennimore.com 
END:VEVENT
BEGIN:VEVENT
DTSTART;TZID=America/Chicago:20241130T090000
DTEND;TZID=America/Chicago:20241130T190000
DTSTAMP:20260419T130330
CREATED:20241031T204756Z
LAST-MODIFIED:20241031T204756Z
UID:18274-1732957200-1732993200@fennimore.com
SUMMARY:4th Annual Holiday Fen-Stival!
DESCRIPTION:  \nThe 4th Annual Holiday Fen-Stival is upon us! \n We’ve kept all your favorite events and added a twist to a few of them! Sponsorships for the entire event are now available at Fennimore.com \nChristmas Creation Craft Fair & Makers Market \nThe Fennimore Area Chamber of Commerce invites you to participate in our annual craft show on Saturday\, November 30\, 2024. Vendor registration is available via fennimore.com.  \nLights at the Library \nLights at the Library are back! Community members enjoyed seeing our library and downtown lit up with joy\, so we’ve decided to keep it along Lincoln Ave for another year!  \nVisit fennimore.com for more info! \nParticipate in our Holiday Parade! \nThe parade will start at 5:30 p.m.\, with the lineup beginning at 5:00 p.m. Whether you are planning to decorate a float or walk in the parade\, please register at fennimore.com \n  \nSPONSOR THE FEN-STIVAL HERE:
URL:https://fennimore.com/event/4th-annual-holiday-fen-stival/
END:VEVENT
BEGIN:VEVENT
DTSTART;TZID=America/Chicago:20241130T173000
DTEND;TZID=America/Chicago:20241130T180000
DTSTAMP:20260419T130330
CREATED:20241105T195242Z
LAST-MODIFIED:20241126T062424Z
UID:18280-1732987800-1732989600@fennimore.com
SUMMARY:Holiday Parade
DESCRIPTION:Participate in our Holiday Parade! \nThe parade will start at 5:30 p.m.\, with the lineup beginning at 5:00 p.m. Whether you are planning to decorate a float or walk in the parade\, please register at fennimore.com \n \n  \nVOTE FOR YOUR FAVORITE PARADE ENTRY!! \nVOTING BEGINS SATURDAY\, NOVEMBER 30TH AT 5:30P PM (and votes casted before the above date will not be counted!) & VOTING ENDS ON MONDAY\, DECEMBER 2ND AT 12:00 PM: \nOops! We could not locate your form.
URL:https://fennimore.com/event/holiday-parade-2024-2/
ORGANIZER;CN="Fennimore Area Chamber of Commerce":MAILTO:promo@fennimore.com
END:VEVENT
BEGIN:VEVENT
DTSTART;TZID=America/Chicago:20250419T130000
DTEND;TZID=America/Chicago:20250419T170000
DTSTAMP:20260419T130330
CREATED:20250325T225555Z
LAST-MODIFIED:20250325T230204Z
UID:18738-1745067600-1745082000@fennimore.com
SUMMARY:12th Annual Taste of Fennimore
DESCRIPTION:The Fennimore Area Chamber of Commerce invites you to the 12th Annual Taste of Fennimore! Enjoy regional beer\, wine\, coffee\, and beverage tasting\, and sample local favorites including meats\, cheeses\, pastas\, sandwiches\, and desserts from a variety of vendors\, live music\, and more! \nTickets to this great event are available in advance for $20 or at the door for $25. Local eateries\, breweries\, wineries\, cafes\, and baristas have the opportunity to compete in three different categories: “People’s Choice” Competition: Eatery (Chamber member-only) “Regional Favorites” Competition: Beverage “Regional Favorites” Competition: Food
URL:https://fennimore.com/event/12th-annual-taste-of-fennimore/
LOCATION:Cottonwood Supper Club and Sports Bar\, 4716 Green River Road\, Fennimore\, WI\, 53809\, United States
ORGANIZER;CN="Fennimnore Area Chamber of Commerce":MAILTO:promo@fennimore.com 
END:VEVENT
BEGIN:VEVENT
DTSTART;VALUE=DATE:20250515
DTEND;VALUE=DATE:20250518
DTSTAMP:20260419T130330
CREATED:20250418T220553Z
LAST-MODIFIED:20250513T170317Z
UID:18795-1747267200-1747526399@fennimore.com
SUMMARY:Chamber of Commerce Citywide Garage Sales
DESCRIPTION:Fennimore Area Chamber of Commerce Citywide Garage Sales \n\nDownload a PDF version. \n 
URL:https://fennimore.com/event/chamber-of-commerce-citywide-garage-sales/
CATEGORIES:Community Event
END:VEVENT
BEGIN:VEVENT
DTSTART;TZID=America/Chicago:20250612T150000
DTEND;TZID=America/Chicago:20250612T150000
DTSTAMP:20260419T130330
CREATED:20250418T220808Z
LAST-MODIFIED:20250520T213225Z
UID:18797-1749740400-1749740400@fennimore.com
SUMMARY:Chamber of Commerce Golf Outing
DESCRIPTION:Fennimore Area Chamber of Commerce Golf  Tournament\nThursday\, June 12 — Hickory Grove Golf Course\nShotgun Start at 4:00 p.m.
URL:https://fennimore.com/event/chamber-of-commerce-golf-outing/
LOCATION:Hickory Grove Golf Course\, 14562 Hwy 61 North\, Fennimore\, WI\, 53809\, United States
ORGANIZER;CN="Fennimnore Area Chamber of Commerce":MAILTO:promo@fennimore.com 
END:VEVENT
BEGIN:VEVENT
DTSTART;TZID=America/Chicago:20250708T163000
DTEND;TZID=America/Chicago:20250708T190000
DTSTAMP:20260419T130330
CREATED:20250418T221146Z
LAST-MODIFIED:20250612T230836Z
UID:18799-1751992200-1752001200@fennimore.com
SUMMARY:Chamber of Commerce Chicken BBQ
DESCRIPTION:2025 Annual Chamber of Commerce Chicken BBQ\n \n 
URL:https://fennimore.com/event/chamber-of-commerce-chicken-bbq/
LOCATION:Fennimore Memorial Building\, 860 Lincoln Avenue\, Fennimore\, WI\, 53809\, United States
END:VEVENT
BEGIN:VEVENT
DTSTART;VALUE=DATE:20250726
DTEND;VALUE=DATE:20250727
DTSTAMP:20260419T130330
CREATED:20250418T221730Z
LAST-MODIFIED:20250418T224430Z
UID:18802-1753488000-1753574399@fennimore.com
SUMMARY:Southwest WI Tractor Ride
DESCRIPTION:The annual SW WI Tractor Ride will be held Saturday\, July 26. \nThe ride begins at 9 a.m. sharp. \n 
URL:https://fennimore.com/event/southwest-wi-tractor-ride/
END:VEVENT
BEGIN:VEVENT
DTSTART;VALUE=DATE:20250805
DTEND;VALUE=DATE:20250806
DTSTAMP:20260419T130330
CREATED:20250418T222124Z
LAST-MODIFIED:20250418T224315Z
UID:18804-1754352000-1754438399@fennimore.com
SUMMARY:National Night Out @ Marsden Park
DESCRIPTION:National Night Out @ Marsden Park\nTime and details coming…
URL:https://fennimore.com/event/national-night-out-marsden-park/
LOCATION:Marsden Park\, Along Marsden Park Road \, Fennimore \, WI\, 53809 \, United States
END:VEVENT
BEGIN:VEVENT
DTSTART;VALUE=DATE:20250823
DTEND;VALUE=DATE:20250824
DTSTAMP:20260419T130330
CREATED:20250418T225758Z
LAST-MODIFIED:20250418T225758Z
UID:18815-1755907200-1755993599@fennimore.com
SUMMARY:Fennimore Junior Fair
DESCRIPTION:Fennimore Junior Fair\nTimes and details coming…
URL:https://fennimore.com/event/fennimore-junior-fair-2/
LOCATION:Fennimore High School\, 510 7th Street \, Fennimore \, WI\, 53809\, United States
END:VEVENT
BEGIN:VEVENT
DTSTART;TZID=America/Chicago:20250925T070000
DTEND;TZID=America/Chicago:20250927T190000
DTSTAMP:20260419T130330
CREATED:20250911T194010Z
LAST-MODIFIED:20250922T173849Z
UID:18996-1758783600-1758999600@fennimore.com
SUMMARY:Fennimore Citywide Garage Sale - Fall 2025
DESCRIPTION:Signup deadline extended to Wednesday\, September 24th at noon\n \nSignup deadline extended to Wednesday\, September 24th at noon\nSponsored by Fennimore Area Chamber of Commerce
URL:https://fennimore.com/event/fennimore-citywide-fall-garage-sale/
LOCATION:Fennimore\, Fennimore\, WI\, 53809\, United States
CATEGORIES:Announcements,Community Event
ORGANIZER;CN="Fennimore Area Chamber of Commerce":MAILTO:promo@fennimore.com 
END:VEVENT
BEGIN:VEVENT
DTSTART;VALUE=DATE:20250928
DTEND;VALUE=DATE:20250929
DTSTAMP:20260419T130330
CREATED:20250418T222715Z
LAST-MODIFIED:20250918T212003Z
UID:18806-1759017600-1759103999@fennimore.com
SUMMARY:Heritage Day Celebration
DESCRIPTION:Heritage Day Celebration\nEnjoy a fun filled day in Fennimore! \nThe Doll & Toy Museum\, The Railroad Museum\, The Fennimore FFA and the Fennimore Pumpkin Growers Club will have activities all day long for the annual Heritage Day Celebration. \n 
URL:https://fennimore.com/event/heritage-day-celebration-2/
END:VEVENT
BEGIN:VEVENT
DTSTART;TZID=America/Chicago:20251003T110000
DTEND;TZID=America/Chicago:20251003T113000
DTSTAMP:20260419T130330
CREATED:20250930T180024Z
LAST-MODIFIED:20250930T180115Z
UID:19057-1759489200-1759491000@fennimore.com
SUMMARY:Ribbon Cutting @ Krantz Hardware
DESCRIPTION:
URL:https://fennimore.com/event/ribbon-cutting-krantz-hardware/
LOCATION:Krantz Hardware\, 280 Lincoln Ave\, Fennimore\, WI\, 53809\, United States
ORGANIZER;CN="Fennimnore Area Chamber of Commerce":MAILTO:promo@fennimore.com 
END:VEVENT
BEGIN:VEVENT
DTSTART;TZID=America/Chicago:20251026T140000
DTEND;TZID=America/Chicago:20251026T160000
DTSTAMP:20260419T130330
CREATED:20250418T223428Z
LAST-MODIFIED:20251001T212258Z
UID:18808-1761487200-1761494400@fennimore.com
SUMMARY:Fennimore's Halloween Trunk or Treat!
DESCRIPTION:
URL:https://fennimore.com/event/fennimore-trunk-or-treat/
END:VEVENT
BEGIN:VEVENT
DTSTART;TZID=America/Chicago:20251031T130000
DTEND;TZID=America/Chicago:20251031T133000
DTSTAMP:20260419T130330
CREATED:20251027T212134Z
LAST-MODIFIED:20251027T212134Z
UID:19097-1761915600-1761917400@fennimore.com
SUMMARY:Ribbon Cutting - Rejuvenate With PRP\, LLC
DESCRIPTION:
URL:https://fennimore.com/event/ribbon-cutting-rejuvenate-with-prp/
LOCATION:Rejuvenate With PRP\, LLC\, 1175 7th Street\, Fennimore\, WI\, 53809\, United States
END:VEVENT
BEGIN:VEVENT
DTSTART;TZID=America/Chicago:20251031T160000
DTEND;TZID=America/Chicago:20251031T190000
DTSTAMP:20260419T130330
CREATED:20251007T194903Z
LAST-MODIFIED:20251007T194903Z
UID:19073-1761926400-1761937200@fennimore.com
SUMMARY:Trick or Treat
DESCRIPTION:
URL:https://fennimore.com/event/trick-or-treat/
LOCATION:Fennimore\, Fennimore\, WI\, 53809\, United States
END:VEVENT
BEGIN:VEVENT
DTSTART;TZID=America/Chicago:20251106T170000
DTEND;TZID=America/Chicago:20251106T170000
DTSTAMP:20260419T130330
CREATED:20251107T223653Z
LAST-MODIFIED:20251107T223653Z
UID:19118-1762448400-1762448400@fennimore.com
SUMMARY:Fennimore Area Chamber of Commerce Annual Meeting
DESCRIPTION:
URL:https://fennimore.com/event/fennimore-area-chamber-of-commerce-annual-meeting-2/
LOCATION:Hickory Grove Golf Course\, 14562 Hwy 61 North\, Fennimore\, WI\, 53809\, United States
CATEGORIES:Chamber of Commerce Meeting
END:VEVENT
BEGIN:VEVENT
DTSTART;TZID=America/Chicago:20251129T090000
DTEND;TZID=America/Chicago:20251129T140000
DTSTAMP:20260419T130330
CREATED:20250911T193357Z
LAST-MODIFIED:20250911T193443Z
UID:18993-1764406800-1764424800@fennimore.com
SUMMARY:50th Annual Christmas Craft Fair
DESCRIPTION:
URL:https://fennimore.com/event/50th-annual-christmas-craft-fair/
LOCATION:Fennimore Memorial Building\, 860 Lincoln Avenue\, Fennimore\, WI\, 53809\, United States
CATEGORIES:Announcements,Community Event
ORGANIZER;CN="Fennimore Area Chamber of Commerce":MAILTO:promo@fennimore.com 
END:VEVENT
BEGIN:VEVENT
DTSTART;TZID=America/Chicago:20251129T173000
DTEND;TZID=America/Chicago:20251129T173000
DTSTAMP:20260419T130330
CREATED:20250418T224031Z
LAST-MODIFIED:20251107T223108Z
UID:18812-1764437400-1764437400@fennimore.com
SUMMARY:Holiday Fen-Stival Parade
DESCRIPTION:
URL:https://fennimore.com/event/holiday-fen-stival-parade/
END:VEVENT
BEGIN:VEVENT
DTSTART;TZID=America/Chicago:20251129T180000
DTEND;TZID=America/Chicago:20251129T180000
DTSTAMP:20260419T130330
CREATED:20251107T222957Z
LAST-MODIFIED:20251107T223114Z
UID:19114-1764439200-1764439200@fennimore.com
SUMMARY:Lights at the Museum
DESCRIPTION:
URL:https://fennimore.com/event/lights-at-the-museum/
LOCATION:Fennimore\, Fennimore\, WI\, 53809\, United States
END:VEVENT
BEGIN:VEVENT
DTSTART;TZID=America/Chicago:20251213T100000
DTEND;TZID=America/Chicago:20251213T103000
DTSTAMP:20260419T130330
CREATED:20251205T211408Z
LAST-MODIFIED:20251205T211504Z
UID:19157-1765620000-1765621800@fennimore.com
SUMMARY:Ribbon cutting - Hometown Appliance and More
DESCRIPTION:
URL:https://fennimore.com/event/ribbon-cutting-hometown-appliance-and-more/
LOCATION:320 Lincoln Ave\, Fennimore\, WI 53809\, 320 Lincoln Ave\, Fennimore\, WI\, 53809\, United States
CATEGORIES:Announcements,Ribbon Cutting
ORGANIZER;CN="Fennimnore Area Chamber of Commerce":MAILTO:promo@fennimore.com 
END:VEVENT
BEGIN:VEVENT
DTSTART;TZID=America/Chicago:20260131T100000
DTEND;TZID=America/Chicago:20260131T150000
DTSTAMP:20260419T130330
CREATED:20260109T192326Z
LAST-MODIFIED:20260109T192326Z
UID:19276-1769853600-1769871600@fennimore.com
SUMMARY:Celebrating the 100-year Anniversary of the Last Run of The Dinky
DESCRIPTION:
URL:https://fennimore.com/event/celebrating-the-100-year-anniversary-of-the-last-run-of-the-dinky/
LOCATION:Fennimore Railroad Museum
ORGANIZER;CN="Fennimore Railroad Historical Society":MAILTO:promo@fennimore.com
END:VEVENT
END:VCALENDAR